BEGIN:VCALENDAR
VERSION:2.0
PRODID:-//wp-events-plugin.com//7.0.4//EN
TZID:America/New_York
X-WR-TIMEZONE:America/New_York
BEGIN:VEVENT
UID:56@springfieldcommunityband.com
DTSTART;TZID=America/New_York:20230815T193000
DTEND;TZID=America/New_York:20230815T203000
DTSTAMP:20230810T181622Z
URL:https://springfieldcommunityband.com/events-3/final-summer-concert-at-
 the-hartness-house/
SUMMARY:Final Summer Concert at The Hartness House
DESCRIPTION:The Springfield (VT) Community Band will present its FINAL conc
 ert of the summer season at 7:30 pm on Tuesday\, August 15\, 2023\, at t
 he Hartness House\, 109 Front Street\, Springfield\, VT.\n\nCongratulation
 s go out to trombonist Vaughn Hadwen who\, with this concert\, will be  c
 ompleting the unparalleled achievement of 70 years with the band!!!\n\n\n\
 nAs the season ends\, the band thanks the proprietors and staff of the his
 toric Hartness House for making their very beautiful inn available as a co
 ncert venue and for so readily accommodating the band's every request.\n\n
 Many thanks also\, of course\, to our wonderful and loyal audience whose e
 nthusiasm lights up the evening and makes it all fun.\n\nAs always\, the b
 and reserves the final concert of the season for those pieces in the reper
 toire that the band members have enjoyed the most.\n\nCome hear what's bee
 n chosen as band favorites!!\n\n------------------------------------------
 -----------------------------------------------------------------\n\nThe S
 pringfield Community Band is a 501(c)(3) corporation\; the musicians are u
 npaid volunteers.\n\n
CATEGORIES:Concert
LOCATION:The Hartness House\, 109 Front St.\, Springfield\, Vermont\, 05156
 \, United States
X-APPLE-STRUCTURED-LOCATION;VALUE=URI;X-ADDRESS=109 Front St.\, Springfield
 \, Vermont\, 05156\, United States;X-APPLE-RADIUS=100;X-TITLE=The Hartness
  House:geo:0,0
END:VEVENT
BEGIN:VTIMEZONE
TZID:America/New_York
X-LIC-LOCATION:America/New_York
BEGIN:DAYLIGHT
DTSTART:20230312T030000
TZOFFSETFROM:-0500
TZOFFSETTO:-0400
TZNAME:EDT
END:DAYLIGHT
END:VTIMEZONE
END:VCALENDAR