BEGIN:VCALENDAR
VERSION:2.0
PRODID:-//wp-events-plugin.com//7.0.4//EN
TZID:America/New_York
X-WR-TIMEZONE:America/New_York
BEGIN:VEVENT
UID:12@springfieldcommunityband.com
DTSTART;TZID=America/New_York;VALUE=DATE:20230214
DTEND;TZID=America/New_York;VALUE=DATE:20230215
DTSTAMP:20230214T180400Z
URL:https://springfieldcommunityband.com/events-3/no-rehearsal/
SUMMARY:No Rehearsal
DESCRIPTION:No band rehearsal tonight.  The next rehearsal will be 2/28/23
 .  Please see the events calendar for details.  Hope to see you there! 
  Thanks!
CATEGORIES:Rehearsal
LOCATION:Riverside Middle School\, 13 Fairground Road\, Springfield\, Vermo
 nt\, 05156\, United States
X-APPLE-STRUCTURED-LOCATION;VALUE=URI;X-ADDRESS=13 Fairground Road\, Spring
 field\, Vermont\, 05156\, United States;X-APPLE-RADIUS=100;X-TITLE=Riversi
 de Middle School:geo:0,0
END:VEVENT
BEGIN:VTIMEZONE
TZID:America/New_York
X-LIC-LOCATION:America/New_York
BEGIN:STANDARD
DTSTART:20221106T010000
TZOFFSETFROM:-0400
TZOFFSETTO:-0500
TZNAME:EST
END:STANDARD
END:VTIMEZONE
END:VCALENDAR