BEGIN:VCALENDAR
VERSION:2.0
PRODID:-//wp-events-plugin.com//7.0.4//EN
TZID:America/New_York
X-WR-TIMEZONE:America/New_York
BEGIN:VEVENT
UID:15@springfieldcommunityband.com
DTSTART;TZID=America/New_York:20230228T180000
DTEND;TZID=America/New_York:20230228T200000
DTSTAMP:20230228T190809Z
URL:https://springfieldcommunityband.com/events-3/sbc-rehearsal-at-riversi
 de-middle-school-auditorium-from-6-8pm-2023-02-28/
SUMMARY:CANCELLED! SCB Rehearsal at Riverside Middle School Auditorium from
  6-8pm
DESCRIPTION:This event has been CANCELLED due to inclement weather.  Rehea
 rsals to resume next week\, March 7th\, 2023.
CATEGORIES:Rehearsal
LOCATION:Riverside Middle School\, 13 Fairground Road\, Springfield\, Vermo
 nt\, 05156\, United States
X-APPLE-STRUCTURED-LOCATION;VALUE=URI;X-ADDRESS=13 Fairground Road\, Spring
 field\, Vermont\, 05156\, United States;X-APPLE-RADIUS=100;X-TITLE=Riversi
 de Middle School:geo:0,0
END:VEVENT
BEGIN:VTIMEZONE
TZID:America/New_York
X-LIC-LOCATION:America/New_York
BEGIN:STANDARD
DTSTART:20221106T010000
TZOFFSETFROM:-0400
TZOFFSETTO:-0500
TZNAME:EST
END:STANDARD
END:VTIMEZONE
END:VCALENDAR