BEGIN:VCALENDAR
VERSION:2.0
PRODID:-//wp-events-plugin.com//7.0.4//EN
TZID:America/New_York
X-WR-TIMEZONE:America/New_York
BEGIN:VEVENT
UID:17@springfieldcommunityband.com
DTSTART;TZID=America/New_York:20230321T180000
DTEND;TZID=America/New_York:20230321T200000
DTSTAMP:20230314T200719Z
URL:https://springfieldcommunityband.com/events-3/sbc-rehearsal-at-riversi
 de-middle-school-auditorium-from-6-8pm-2023-03-14/
SUMMARY:SCB Rehearsal at Riverside Middle School Auditorium from 6-8pm
DESCRIPTION:\n\n 	Springfield Community Band rehearsal at Riverside Middle 
 School Auditorium from 6-8pm\n\n
CATEGORIES:Rehearsal
LOCATION:Riverside Middle School\, 13 Fairground Road\, Springfield\, Vermo
 nt\, 05156\, United States
X-APPLE-STRUCTURED-LOCATION;VALUE=URI;X-ADDRESS=13 Fairground Road\, Spring
 field\, Vermont\, 05156\, United States;X-APPLE-RADIUS=100;X-TITLE=Riversi
 de Middle School:geo:0,0
END:VEVENT
BEGIN:VTIMEZONE
TZID:America/New_York
X-LIC-LOCATION:America/New_York
BEGIN:DAYLIGHT
DTSTART:20230312T030000
TZOFFSETFROM:-0500
TZOFFSETTO:-0400
TZNAME:EDT
END:DAYLIGHT
END:VTIMEZONE
END:VCALENDAR