BEGIN:VCALENDAR
VERSION:2.0
PRODID:-//wp-events-plugin.com//7.0.4//EN
TZID:America/New_York
X-WR-TIMEZONE:America/New_York
BEGIN:VEVENT
UID:35@springfieldcommunityband.com
DTSTART;TZID=America/New_York:20230627T180000
DTEND;TZID=America/New_York:20230627T190000
DTSTAMP:20230627T181959Z
URL:https://springfieldcommunityband.com/events-3/scb-2023-summer-concert-
 season-rehearsal-at-rms-auditorium-from-6-7pm-2023-06-27/
SUMMARY:CANCELLED - SCB 2023 Summer Concert Season Rehearsal 6/27/2023
DESCRIPTION:Rehearsal and Performance for this evening\, 6/27/2023\, has be
 en cancelled due to inclement weather.  We apologize for the inconvenienc
 e.\n\n&nbsp\;\n\nSpringfield Community Band 2023 Summer Concert Season Reh
 earsal from 6-7pm at The Hartness House prior to the concert.  There will
  be a 30 minute break between the rehearsal and concert.\n\nAll concert in
 struments welcome.  There is no fee to join.  Please contact scommunityb
 and@gmail.com for more information.\n\nhttps://www.facebook.com/springfie
 ldcommunityband
ATTACH;FMTTYPE=image/jpeg:https://springfieldcommunityband.com/wp-content/
 uploads/2017/08/logo2.png
CATEGORIES:Rehearsal
LOCATION:The Hartness House\, 109 Front St.\, Springfield\, Vermont\, 05156
 \, United States
X-APPLE-STRUCTURED-LOCATION;VALUE=URI;X-ADDRESS=109 Front St.\, Springfield
 \, Vermont\, 05156\, United States;X-APPLE-RADIUS=100;X-TITLE=The Hartness
  House:geo:0,0
END:VEVENT
BEGIN:VTIMEZONE
TZID:America/New_York
X-LIC-LOCATION:America/New_York
BEGIN:DAYLIGHT
DTSTART:20230312T030000
TZOFFSETFROM:-0500
TZOFFSETTO:-0400
TZNAME:EDT
END:DAYLIGHT
END:VTIMEZONE
END:VCALENDAR