BEGIN:VCALENDAR
VERSION:2.0
PRODID:-//wp-events-plugin.com//7.0.4//EN
TZID:America/New_York
X-WR-TIMEZONE:America/New_York
BEGIN:VEVENT
UID:37@springfieldcommunityband.com
DTSTART;TZID=America/New_York:20230711T180000
DTEND;TZID=America/New_York:20230711T190000
DTSTAMP:20230423T180753Z
URL:https://springfieldcommunityband.com/events-3/scb-2023-summer-concert-
 season-rehearsal-at-rms-auditorium-from-6-7pm-2023-07-11/
SUMMARY:SCB Rehearsal at Springfield Commons from 6-7pm
DESCRIPTION:Springfield Community Band Rehearsal at Springfield Commons on 
 Summer Hill Street from 6-7pm\n\nThere will be a break before the Children
 's Concert begins at 7pm.  Don't forget your costume!\n\nAll concert inst
 ruments welcome.  There is no fee to join.  Please contact info@springf
 ieldcommunityband.com for more information.\n\nhttps://www.facebook.com/s
 pringfieldcommunityband
ATTACH;FMTTYPE=image/jpeg:https://springfieldcommunityband.com/wp-content/
 uploads/2017/08/bandlogo2.jpg
CATEGORIES:Rehearsal
LOCATION:The Commons Park\, 63 Summer Hl St\, Springfield\, Vermont\, 05156
 \, United States
X-APPLE-STRUCTURED-LOCATION;VALUE=URI;X-ADDRESS=63 Summer Hl St\, Springfie
 ld\, Vermont\, 05156\, United States;X-APPLE-RADIUS=100;X-TITLE=The Common
 s Park:geo:0,0
END:VEVENT
BEGIN:VTIMEZONE
TZID:America/New_York
X-LIC-LOCATION:America/New_York
BEGIN:DAYLIGHT
DTSTART:20230312T030000
TZOFFSETFROM:-0500
TZOFFSETTO:-0400
TZNAME:EDT
END:DAYLIGHT
END:VTIMEZONE
END:VCALENDAR