BEGIN:VCALENDAR
VERSION:2.0
PRODID:-//wp-events-plugin.com//7.0.4//EN
TZID:America/New_York
X-WR-TIMEZONE:America/New_York
BEGIN:VEVENT
UID:32@springfieldcommunityband.com
DTSTART;TZID=America/New_York:20230613T180000
DTEND;TZID=America/New_York:20230613T200000
DTSTAMP:20230424T122740Z
URL:https://springfieldcommunityband.com/events-3/scb-2023-summer-concert-
 season-rehearsal-at-rms-auditorium-from-6-8pm-2023-06-13/
SUMMARY:SCB 2023 Summer Concert Season Rehearsal at RMS auditorium from 6-8
 pm
DESCRIPTION:Springfield Community Band 2023 Summer Concert Season Rehearsal
  at Riverside Middle School auditorium from 6-8pm\n\nAll concert instrumen
 ts welcome.  There is no fee to join.  Please contact info@springfieldco
 mmunityband.com for more information.\n\nhttps://www.facebook.com/springfi
 eldcommunityband\n\n&nbsp\;
ATTACH;FMTTYPE=image/jpeg:https://springfieldcommunityband.com/wp-content/
 uploads/2017/08/logo2.png
CATEGORIES:Rehearsal
LOCATION:Riverside Middle School\, 13 Fairground Road\, Springfield\, Vermo
 nt\, 05156\, United States
X-APPLE-STRUCTURED-LOCATION;VALUE=URI;X-ADDRESS=13 Fairground Road\, Spring
 field\, Vermont\, 05156\, United States;X-APPLE-RADIUS=100;X-TITLE=Riversi
 de Middle School:geo:0,0
END:VEVENT
BEGIN:VTIMEZONE
TZID:America/New_York
X-LIC-LOCATION:America/New_York
BEGIN:DAYLIGHT
DTSTART:20230312T030000
TZOFFSETFROM:-0500
TZOFFSETTO:-0400
TZNAME:EDT
END:DAYLIGHT
END:VTIMEZONE
END:VCALENDAR