BEGIN:VCALENDAR
VERSION:2.0
PRODID:-//wp-events-plugin.com//7.0.4//EN
TZID:America/New_York
X-WR-TIMEZONE:America/New_York
BEGIN:VEVENT
UID:52@springfieldcommunityband.com
DTSTART;TZID=America/New_York:20230723T183000
DTEND;TZID=America/New_York:20230723T200000
DTSTAMP:20230718T012305Z
URL:https://springfieldcommunityband.com/events-3/scb-concert-at-elm-st-ga
 zebo-walpole-nh-from-530pm-630pm/
SUMMARY:SCB Concert at Elm St. Gazebo\, Walpole\, NH from 6:30pm-8pm
DESCRIPTION:The Springfield (VT) Community Band\, under the direction of Ni
 ck Pelton\, will present a free concert at 6:30 p.m. on Sunday\, July 23 a
 t the gazebo on Elm St. in Walpole\, NH. The band will play "Symphonic Ger
 shwin\," "First Suite in Eb for Military Band" by Gustav Holst\, music by 
 Henry Mancini\, as well as various jazz pieces. The concert will end with 
 the "Concerto for Drumset\," featuring percussionist Clay Thompson at his 
 explosive best.\n\nThis should be fun! Please bring a chair!!\n\n(Please n
 ote that the program could change due to unforeseen circumstances.)\n\n&nb
 sp\;
ATTACH;FMTTYPE=image/jpeg:https://springfieldcommunityband.com/wp-content/
 uploads/2017/08/logo2.png
CATEGORIES:Concert
LOCATION:Walpole Elm St. Gazebo\, 40 Westminster St\, Walpole\, New Hampshi
 re\, 03608\, United States
X-APPLE-STRUCTURED-LOCATION;VALUE=URI;X-ADDRESS=40 Westminster St\, Walpole
 \, New Hampshire\, 03608\, United States;X-APPLE-RADIUS=100;X-TITLE=Walpol
 e Elm St. Gazebo:geo:0,0
END:VEVENT
BEGIN:VTIMEZONE
TZID:America/New_York
X-LIC-LOCATION:America/New_York
BEGIN:DAYLIGHT
DTSTART:20230312T030000
TZOFFSETFROM:-0500
TZOFFSETTO:-0400
TZNAME:EDT
END:DAYLIGHT
END:VTIMEZONE
END:VCALENDAR