BEGIN:VCALENDAR
VERSION:2.0
PRODID:-//wp-events-plugin.com//7.0.4//EN
TZID:America/New_York
X-WR-TIMEZONE:America/New_York
BEGIN:VEVENT
UID:62@springfieldcommunityband.com
DTSTART;TZID=America/New_York:20231128T180000
DTEND;TZID=America/New_York:20231128T200000
DTSTAMP:20231024T212750Z
URL:https://springfieldcommunityband.com/events-3/scb-rehearsal-11-28/
SUMMARY:SCB Rehearsal 11/28
DESCRIPTION:The SCB will be rehearsing at Riverside Middle School from 6:00
 -8:00pm. All instruments are welcome! Please email Scommunityband@gmail.co
 m for more information!
CATEGORIES:Rehearsal
LOCATION:Riverside Middle School\, 13 Fairground Road\, Springfield\, Vermo
 nt\, 05156\, United States
X-APPLE-STRUCTURED-LOCATION;VALUE=URI;X-ADDRESS=13 Fairground Road\, Spring
 field\, Vermont\, 05156\, United States;X-APPLE-RADIUS=100;X-TITLE=Riversi
 de Middle School:geo:0,0
END:VEVENT
BEGIN:VTIMEZONE
TZID:America/New_York
X-LIC-LOCATION:America/New_York
BEGIN:STANDARD
DTSTART:20231105T010000
TZOFFSETFROM:-0400
TZOFFSETTO:-0500
TZNAME:EST
END:STANDARD
END:VTIMEZONE
END:VCALENDAR