BEGIN:VCALENDAR
VERSION:2.0
PRODID:-//wp-events-plugin.com//7.0.4//EN
TZID:America/New_York
X-WR-TIMEZONE:America/New_York
BEGIN:VEVENT
UID:42@springfieldcommunityband.com
DTSTART;TZID=America/New_York:20230723T170000
DTEND;TZID=America/New_York:20230723T180000
DTSTAMP:20230722T165011Z
URL:https://springfieldcommunityband.com/events-3/scb-setup-warmup-and-sou
 nd-check-at-elm-st-gazebo-walpole-nh-from-530pm-630pm/
SUMMARY:SCB Setup\, Warmup and Sound Check at Elm St. Gazebo\, Walpole\, NH
  from 5pm-6pm
DESCRIPTION:Springfield Community Band Setup\, Warmup and Sound Check at El
 m St. Gazebo\, Walpole\, NH from 5pm-6pm\n\nThere will be a break before t
 he concert starts at 6:30pm\n\n&nbsp\;
ATTACH;FMTTYPE=image/jpeg:https://springfieldcommunityband.com/wp-content/
 uploads/2017/08/logo2.png
CATEGORIES:Rehearsal
LOCATION:Walpole Elm St. Gazebo\, 40 Westminster St\, Walpole\, New Hampshi
 re\, 03608\, United States
X-APPLE-STRUCTURED-LOCATION;VALUE=URI;X-ADDRESS=40 Westminster St\, Walpole
 \, New Hampshire\, 03608\, United States;X-APPLE-RADIUS=100;X-TITLE=Walpol
 e Elm St. Gazebo:geo:0,0
END:VEVENT
BEGIN:VTIMEZONE
TZID:America/New_York
X-LIC-LOCATION:America/New_York
BEGIN:DAYLIGHT
DTSTART:20230312T030000
TZOFFSETFROM:-0500
TZOFFSETTO:-0400
TZNAME:EDT
END:DAYLIGHT
END:VTIMEZONE
END:VCALENDAR