BEGIN:VCALENDAR
VERSION:2.0
PRODID:-//wp-events-plugin.com//7.0.4//EN
TZID:America/New_York
X-WR-TIMEZONE:America/New_York
BEGIN:VEVENT
UID:59@springfieldcommunityband.com
DTSTART;TZID=America/New_York:20231216T180000
DTEND;TZID=America/New_York:20231216T190000
DTSTAMP:20231211T220704Z
URL:https://springfieldcommunityband.com/events-3/scb-winter-concert-at-sp
 ringfield-high-school-december-16-600pm-700pm/
SUMMARY:SCB Winter Concert at Springfield High School\, December 16\, 6:00P
 M-7:00pm
DESCRIPTION:The Springfield Community Band directed by Nick Pelton will be 
 performing a free concert at Springfield High School's auditorium on Decem
 ber 16th at 6:00PM. We have a great program for you that is full of holida
 y classics and new arrangements with a modern twist. It will also feature 
 singers from locals schools and the local community. We hope to see you th
 ere!
CATEGORIES:Concert
LOCATION:Riverside Middle School\, 13 Fairground Road\, Springfield\, Vermo
 nt\, 05156\, United States
X-APPLE-STRUCTURED-LOCATION;VALUE=URI;X-ADDRESS=13 Fairground Road\, Spring
 field\, Vermont\, 05156\, United States;X-APPLE-RADIUS=100;X-TITLE=Riversi
 de Middle School:geo:0,0
END:VEVENT
BEGIN:VTIMEZONE
TZID:America/New_York
X-LIC-LOCATION:America/New_York
BEGIN:STANDARD
DTSTART:20231105T010000
TZOFFSETFROM:-0400
TZOFFSETTO:-0500
TZNAME:EST
END:STANDARD
END:VTIMEZONE
END:VCALENDAR