BEGIN:VCALENDAR
VERSION:2.0
PRODID:-//wp-events-plugin.com//7.0.4//EN
TZID:America/New_York
X-WR-TIMEZONE:America/New_York
BEGIN:VEVENT
UID:68@springfieldcommunityband.com
DTSTART;TZID=America/New_York:20240716T181500
DTEND;TZID=America/New_York:20240716T191500
DTSTAMP:20240603T170903Z
URL:https://springfieldcommunityband.com/events-3/springfield-community-ba
 nd-childrens-concert-at-the-commons-park/
SUMMARY:Springfield Community Band Children's Concert at The Commons Park
DESCRIPTION:The Springfield (VT) Community Band\, under the direction of Ni
 ck Pelton\, will present their annual childrens concert at The Commons Par
 k. (63 Summer Hl Street\, Springfield\, VT 05156) on July 16th at 6:15PM.\
 n\nThis is our annual children's concert! It will feature selections from 
 "Frozen"\, "Moana"\, "Encanto" and much more. Attendees will also get ice 
 cream and potentially get a chance to conduct the band! Come enjoy a great
  show!\n\n
CATEGORIES:Concert
LOCATION:The Commons Park\, 63 Summer Hl St\, Springfield\, Vermont\, 05156
 \, United States
X-APPLE-STRUCTURED-LOCATION;VALUE=URI;X-ADDRESS=63 Summer Hl St\, Springfie
 ld\, Vermont\, 05156\, United States;X-APPLE-RADIUS=100;X-TITLE=The Common
 s Park:geo:0,0
END:VEVENT
BEGIN:VTIMEZONE
TZID:America/New_York
X-LIC-LOCATION:America/New_York
BEGIN:DAYLIGHT
DTSTART:20240310T030000
TZOFFSETFROM:-0500
TZOFFSETTO:-0400
TZNAME:EDT
END:DAYLIGHT
END:VTIMEZONE
END:VCALENDAR