BEGIN:VCALENDAR
VERSION:2.0
PRODID:-//wp-events-plugin.com//7.0.4//EN
TZID:America/New_York
X-WR-TIMEZONE:America/New_York
BEGIN:VEVENT
UID:45@springfieldcommunityband.com
DTSTART;TZID=America/New_York:20230627T193000
DTEND;TZID=America/New_York:20230627T203000
DTSTAMP:20230627T181713Z
URL:https://springfieldcommunityband.com/events-3/springfield-community-ba
 nd-concert-at-rms-bandstand-at-730-pm-2023-06-27/
SUMMARY:Cancelled - Springfield Community Band Guest Conductors' Concert at
  The Hartness House at 7:30 PM
DESCRIPTION:This event has been CANCELLED due to inclement weather. We apol
 ogize for the inconvenience.\n\nThe Springfield (VT) Community Band will p
 resent a concert at 7:30 p.m. on Tuesday\, June 27\, 2023 at the Hartness 
 House\, 109 Front St (formerly 30 Orchard St)\, Springfield\, VT. Band mem
 bers Danielle St. Amand (flute) and Alex Brady (tenor sax)\, will conduct.
  Both are music educators teaching in local schools.\nMovie and musical so
 undtracks are the focus of this concert. Selections will include "Moana" "
 Sound of Music" and "Phantom of the Opera\," among others.\nAnd in case yo
 u missed it\, the band will once again perform "First Suite in Eb for Mili
 tary Band" by Gustav Holst\, a piece that became a band favorite during wi
 nter rehearsals. The piece debuted last week.\nhttps://www.facebook.com/ev
 ents/3382411072073473\n\nhttps://www.facebook.com/springfieldcommunityband
ATTACH;FMTTYPE=image/jpeg:https://springfieldcommunityband.com/wp-content/
 uploads/2017/08/logo2.png
CATEGORIES:Concert
LOCATION:The Hartness House\, 109 Front St.\, Springfield\, Vermont\, 05156
 \, United States
X-APPLE-STRUCTURED-LOCATION;VALUE=URI;X-ADDRESS=109 Front St.\, Springfield
 \, Vermont\, 05156\, United States;X-APPLE-RADIUS=100;X-TITLE=The Hartness
  House:geo:0,0
END:VEVENT
BEGIN:VTIMEZONE
TZID:America/New_York
X-LIC-LOCATION:America/New_York
BEGIN:DAYLIGHT
DTSTART:20230312T030000
TZOFFSETFROM:-0500
TZOFFSETTO:-0400
TZNAME:EDT
END:DAYLIGHT
END:VTIMEZONE
END:VCALENDAR