BEGIN:VCALENDAR
VERSION:2.0
PRODID:-//wp-events-plugin.com//7.0.4//EN
TZID:America/New_York
X-WR-TIMEZONE:America/New_York
BEGIN:VEVENT
UID:46@springfieldcommunityband.com
DTSTART;TZID=America/New_York:20230704T193000
DTEND;TZID=America/New_York:20230704T203000
DTSTAMP:20230704T184939Z
URL:https://springfieldcommunityband.com/events-3/springfield-community-ba
 nd-concert-at-rms-bandstand-at-730-pm-2023-07-04/
SUMMARY:CANCELLED Springfield Community Band Patriotic Concert at The Hartn
 ess House at 7:30 PM
DESCRIPTION:The July 4th Patriotic concert at the Hartness House Inn has un
 fortunately been CANCELLED due to inclement weather. Thunderstorms and flo
 od watches have been issued in some surrounding areas\, so please be safe 
 and keep an eye on your local weather. Hope to see you next week for the C
 hildren’s Concert at the Springfield Commons. Please see the events cale
 ndar for details.\n\n&nbsp\;\n\nSpringfield Community Band Concert at The 
 Hartness House at 7:30pm.  Don't forget to bring a chair!  Please check 
 the event calendar prior to performances for schedule and venue updates du
 e to inclement weather or other unforeseen circumstances.\n\n&nbsp\;\n\nht
 tps://www.facebook.com/springfieldcommunityband
ATTACH;FMTTYPE=image/jpeg:https://springfieldcommunityband.com/wp-content/
 uploads/2017/08/logo2.png
CATEGORIES:Concert
LOCATION:The Hartness House\, 109 Front St.\, Springfield\, Vermont\, 05156
 \, United States
X-APPLE-STRUCTURED-LOCATION;VALUE=URI;X-ADDRESS=109 Front St.\, Springfield
 \, Vermont\, 05156\, United States;X-APPLE-RADIUS=100;X-TITLE=The Hartness
  House:geo:0,0
END:VEVENT
BEGIN:VTIMEZONE
TZID:America/New_York
X-LIC-LOCATION:America/New_York
BEGIN:DAYLIGHT
DTSTART:20230312T030000
TZOFFSETFROM:-0500
TZOFFSETTO:-0400
TZNAME:EDT
END:DAYLIGHT
END:VTIMEZONE
END:VCALENDAR