BEGIN:VCALENDAR
VERSION:2.0
PRODID:-//wp-events-plugin.com//7.0.4//EN
TZID:America/New_York
X-WR-TIMEZONE:America/New_York
BEGIN:VEVENT
UID:47@springfieldcommunityband.com
DTSTART;TZID=America/New_York:20230711T190000
DTEND;TZID=America/New_York:20230711T200000
DTSTAMP:20230711T165427Z
URL:https://springfieldcommunityband.com/events-3/springfield-community-ba
 nd-concert-at-rms-bandstand-at-730-pm-2023-07-11/
SUMMARY:Springfield Community Band Children's Concert at Springfield Common
 s 7pm-8pm
DESCRIPTION:TUESDAY\, July 11\, 2023\, IS A BIG DAY FOR THE ARTS IN SPRINGF
 IELD!! \n\nThe Springfield Community Band announces that that evening’s 
 Children’s Concert will be the venue for the first-ever collaboration be
 tween the band and dancers from The Dance Factory in Springfield. The two 
 groups will perform together to present Prokofiev’s well-loved story of 
 Peter and the Wolf. \n\nNick Pelton will conduct the concert\, which will
  take place at 7:00 p.m. at The Common (a park in Springfield located opp
 osite the cemetery on Cherry Hill (formerly Summer Hill St.) Ashley Hensel
 -Browning created the choreography for the dancers. \n\nThe band urges ev
 eryone (kids and adults) to come dressed in their PAJAMAS and be ready f
 or fun!!! The kids will gather to dance the Hokey Pokey\, and those childr
 en who wish to do so will have the chance to conduct the band.\n\n As alw
 ays\, there will be FREE ICE CREAM for all.\n\n THIS CONCERT IS ALWAYS FU
 N!  DON'T FORGET YOUR CHAIR!\n\n \n\n(Please note that the program could
  change due to unforeseen circumstances.)\n\nhttps://www.facebook.com/even
 ts/200641716057404
ATTACH;FMTTYPE=image/jpeg:https://springfieldcommunityband.com/wp-content/
 uploads/2017/08/logo2.png
CATEGORIES:Concert
LOCATION:The Commons Park\, 63 Summer Hl St\, Springfield\, Vermont\, 05156
 \, United States
X-APPLE-STRUCTURED-LOCATION;VALUE=URI;X-ADDRESS=63 Summer Hl St\, Springfie
 ld\, Vermont\, 05156\, United States;X-APPLE-RADIUS=100;X-TITLE=The Common
 s Park:geo:0,0
END:VEVENT
BEGIN:VTIMEZONE
TZID:America/New_York
X-LIC-LOCATION:America/New_York
BEGIN:DAYLIGHT
DTSTART:20230312T030000
TZOFFSETFROM:-0500
TZOFFSETTO:-0400
TZNAME:EDT
END:DAYLIGHT
END:VTIMEZONE
END:VCALENDAR