BEGIN:VCALENDAR
VERSION:2.0
PRODID:-//wp-events-plugin.com//7.0.4//EN
TZID:America/New_York
X-WR-TIMEZONE:America/New_York
BEGIN:VEVENT
UID:50@springfieldcommunityband.com
DTSTART;TZID=America/New_York:20230801T193000
DTEND;TZID=America/New_York:20230801T203000
DTSTAMP:20230724T181741Z
URL:https://springfieldcommunityband.com/events-3/springfield-community-ba
 nd-concert-at-rms-bandstand-at-730-pm-2023-08-01/
SUMMARY:Springfield Community Band Concert at The Hartness House at 7:30 PM
DESCRIPTION:Springfield Community Band Concert at RMS Bandstand at 7:30 PM
ATTACH;FMTTYPE=image/jpeg:https://springfieldcommunityband.com/wp-content/
 uploads/2017/08/logo2.png
CATEGORIES:Concert
LOCATION:The Hartness House\, 109 Front St.\, Springfield\, Vermont\, 05156
 \, United States
X-APPLE-STRUCTURED-LOCATION;VALUE=URI;X-ADDRESS=109 Front St.\, Springfield
 \, Vermont\, 05156\, United States;X-APPLE-RADIUS=100;X-TITLE=The Hartness
  House:geo:0,0
END:VEVENT
BEGIN:VTIMEZONE
TZID:America/New_York
X-LIC-LOCATION:America/New_York
BEGIN:DAYLIGHT
DTSTART:20230312T030000
TZOFFSETFROM:-0500
TZOFFSETTO:-0400
TZNAME:EDT
END:DAYLIGHT
END:VTIMEZONE
END:VCALENDAR