BEGIN:VCALENDAR
VERSION:2.0
PRODID:-//wp-events-plugin.com//7.0.4//EN
TZID:America/New_York
X-WR-TIMEZONE:America/New_York
BEGIN:VEVENT
UID:51@springfieldcommunityband.com
DTSTART;TZID=America/New_York:20230808T193000
DTEND;TZID=America/New_York:20230808T203000
DTSTAMP:20230731T215643Z
URL:https://springfieldcommunityband.com/events-3/springfield-community-ba
 nd-concert-at-rms-bandstand-at-730-pm-2023-08-08/
SUMMARY:Springfield Community Band's Favorites Concert at The Hartness Hous
 e at 7:30 PM
DESCRIPTION:The Springfield (VT) Community Band will present a concert (rai
 n or shine) at 7:30 p.m. on Tuesday\, August 8\, 2023\, at the Hartness
  House\, 109 Front St (formerly 30 Orchard St)\, Springfield\, VT.   Ban
 d members Danielle St. Amand (flute) and Alex Brady (alto sax)\, will con
 duct.  Both are music educators teaching in local schools.\n\nAmong other
  things\, the band will play selections from "The Sound of Music" and "Pha
 ntom of the Opera\," as well as the hauntingly beautiful "Ashokan Farewell
 ."   The evening will conclude with the rousing Spanish march\, Amparito
  Roca.\n\nhttps://www.facebook.com/springfieldcommunityband
ATTACH;FMTTYPE=image/jpeg:https://springfieldcommunityband.com/wp-content/
 uploads/2017/08/logo2.png
CATEGORIES:Concert
LOCATION:The Hartness House\, 109 Front St.\, Springfield\, Vermont\, 05156
 \, United States
X-APPLE-STRUCTURED-LOCATION;VALUE=URI;X-ADDRESS=109 Front St.\, Springfield
 \, Vermont\, 05156\, United States;X-APPLE-RADIUS=100;X-TITLE=The Hartness
  House:geo:0,0
END:VEVENT
BEGIN:VTIMEZONE
TZID:America/New_York
X-LIC-LOCATION:America/New_York
BEGIN:DAYLIGHT
DTSTART:20230312T030000
TZOFFSETFROM:-0500
TZOFFSETTO:-0400
TZNAME:EDT
END:DAYLIGHT
END:VTIMEZONE
END:VCALENDAR