BEGIN:VCALENDAR
VERSION:2.0
PRODID:-//wp-events-plugin.com//7.0.4//EN
TZID:America/New_York
X-WR-TIMEZONE:America/New_York
BEGIN:VEVENT
UID:65@springfieldcommunityband.com
DTSTART;TZID=America/New_York:20240625T193000
DTEND;TZID=America/New_York:20240625T203000
DTSTAMP:20240603T170709Z
URL:https://springfieldcommunityband.com/events-3/springfield-community-ba
 nd-concert-at-the-hartness-house-2/
SUMMARY:Springfield Community Band Concert at the Hartness House
DESCRIPTION:The Springfield (VT) Community Band\, under the direction of Ni
 ck Pelton\, will present a concert at 7:30 p.m. on Tuesday\, June 25th\, a
 t the Hartness House\, 109 Front St (formerly 30 Orchard St)\, Springfield
 \, VT.\n\nThis concert will feature guest conductors Alex Brady\, and Dani
 elle St. Amand. They are two local music educators as well as members of t
 he band.\nThe program for this concert is Disney themed\, featuring select
 ions from "Aladdin"\, "Mary Poppins"\, "The Lion King"\, "Moana"\, and muc
 h more. Come out and see a great concert!\n\nIn the event of rain\, we wil
 l plan to move into the ballroom.
CATEGORIES:Concert
LOCATION:The Hartness House\, 109 Front St.\, Springfield\, Vermont\, 05156
 \, United States
X-APPLE-STRUCTURED-LOCATION;VALUE=URI;X-ADDRESS=109 Front St.\, Springfield
 \, Vermont\, 05156\, United States;X-APPLE-RADIUS=100;X-TITLE=The Hartness
  House:geo:0,0
END:VEVENT
BEGIN:VTIMEZONE
TZID:America/New_York
X-LIC-LOCATION:America/New_York
BEGIN:DAYLIGHT
DTSTART:20240310T030000
TZOFFSETFROM:-0500
TZOFFSETTO:-0400
TZNAME:EDT
END:DAYLIGHT
END:VTIMEZONE
END:VCALENDAR