BEGIN:VCALENDAR
VERSION:2.0
PRODID:-//wp-events-plugin.com//7.0.4//EN
TZID:America/New_York
X-WR-TIMEZONE:America/New_York
BEGIN:VEVENT
UID:69@springfieldcommunityband.com
DTSTART;TZID=America/New_York:20240721T183000
DTEND;TZID=America/New_York:20240721T200000
DTSTAMP:20240603T170941Z
URL:https://springfieldcommunityband.com/events-3/springfield-community-ba
 nd-concert-at-the-walpole-gazebo/
SUMMARY:Springfield Community Band Concert at the Walpole Gazebo
DESCRIPTION:The Springfield (VT) Community Band\, under the direction of Ni
 ck Pelton\, will present a concert at 6:30 p.m. on Sunday\, July 21st\, at
  the Walpole Gazebo\, 40 Westminster St\, Walpole\, NH 03608.\n\nThis conc
 ert will consist of a variety of selections featuring some of the bands fa
 vorites selections. Come out and see a great show!\n\n
CATEGORIES:Concert
LOCATION:Walpole Elm St. Gazebo\, 40 Westminster St\, Walpole\, New Hampshi
 re\, 03608\, United States
X-APPLE-STRUCTURED-LOCATION;VALUE=URI;X-ADDRESS=40 Westminster St\, Walpole
 \, New Hampshire\, 03608\, United States;X-APPLE-RADIUS=100;X-TITLE=Walpol
 e Elm St. Gazebo:geo:0,0
END:VEVENT
BEGIN:VTIMEZONE
TZID:America/New_York
X-LIC-LOCATION:America/New_York
BEGIN:DAYLIGHT
DTSTART:20240310T030000
TZOFFSETFROM:-0500
TZOFFSETTO:-0400
TZNAME:EDT
END:DAYLIGHT
END:VTIMEZONE
END:VCALENDAR